BEGIN:VCALENDAR
VERSION:2.0
PRODID:-//EverGRO - ECPv6.6.4.2//NONSGML v1.0//EN
CALSCALE:GREGORIAN
METHOD:PUBLISH
X-WR-CALNAME:EverGRO
X-ORIGINAL-URL:https://evergrofs.com
X-WR-CALDESC:Events for EverGRO
REFRESH-INTERVAL;VALUE=DURATION:PT1H
X-Robots-Tag:noindex
X-PUBLISHED-TTL:PT1H
BEGIN:VTIMEZONE
TZID:America/New_York
BEGIN:DAYLIGHT
TZOFFSETFROM:-0500
TZOFFSETTO:-0400
TZNAME:EDT
DTSTART:20250309T070000
END:DAYLIGHT
BEGIN:STANDARD
TZOFFSETFROM:-0400
TZOFFSETTO:-0500
TZNAME:EST
DTSTART:20251102T060000
END:STANDARD
END:VTIMEZONE
BEGIN:VEVENT
DTSTART;VALUE=DATE:20250625
DTEND;VALUE=DATE:20250629
DTSTAMP:20260421T185703
CREATED:20240124T152807Z
LAST-MODIFIED:20250102T132635Z
UID:2822-1750809600-1751155199@evergrofs.com
SUMMARY:Orange County Fair
DESCRIPTION:EverGRO FS will once again be a sponsor of the Orange County Fair. More information to follow.
URL:https://evergrofs.com/event/orange-county-fair/
LOCATION:Orange County Fairgrounds\, 14500 Old Gordonsville Rd\, Orange\, VA\, 22960\, United States
CATEGORIES:County Fair,EverGRO Sponsored
ATTACH;FMTTYPE=image/webp:https://evergrofs.com/wp-content/uploads/2024/01/orange-county-fair.webp
END:VEVENT
END:VCALENDAR