BEGIN:VCALENDAR
VERSION:2.0
PRODID:-//EverGRO - ECPv6.6.4.2//NONSGML v1.0//EN
CALSCALE:GREGORIAN
METHOD:PUBLISH
X-WR-CALNAME:EverGRO
X-ORIGINAL-URL:https://evergrofs.com
X-WR-CALDESC:Events for EverGRO
REFRESH-INTERVAL;VALUE=DURATION:PT1H
X-Robots-Tag:noindex
X-PUBLISHED-TTL:PT1H
BEGIN:VTIMEZONE
TZID:America/New_York
BEGIN:DAYLIGHT
TZOFFSETFROM:-0500
TZOFFSETTO:-0400
TZNAME:EDT
DTSTART:20250309T070000
END:DAYLIGHT
BEGIN:STANDARD
TZOFFSETFROM:-0400
TZOFFSETTO:-0500
TZNAME:EST
DTSTART:20251102T060000
END:STANDARD
END:VTIMEZONE
BEGIN:VEVENT
DTSTART;VALUE=DATE:20250814
DTEND;VALUE=DATE:20250817
DTSTAMP:20260421T153854
CREATED:20240124T185746Z
LAST-MODIFIED:20250218T201010Z
UID:2839-1755129600-1755388799@evergrofs.com
SUMMARY:Fluvanna County Fair
DESCRIPTION:EverGRO FS will be a sponsor of the Fluvanna County Fair at Pleasant Grove Park in Palmyra\, VA.
URL:https://evergrofs.com/event/fluvanna-county-fair/
LOCATION:Pleasant Grove Park\, 271 Pleasant Grove Dr\, Palmyra\, VA\, 22963\, United States
CATEGORIES:County Fair,EverGRO Sponsored
ATTACH;FMTTYPE=image/png:https://evergrofs.com/wp-content/uploads/2024/01/cf_logo.png
END:VEVENT
END:VCALENDAR